BEGIN:VCALENDAR
VERSION:2.0
PRODID:-//https://www.urretxu.eus///NONSGML kigkonsult.se iCalcreator 2.10.15//
METHOD:PUBLISH
BEGIN:VEVENT
UID:20260419T200115UTC-3669mXtVxZ@https://www.urretxu.eus/
DTSTAMP:20260419T200115Z
DESCRIPTION: Organiza: ayuntamiento de Urretxu y Bizikidetza mahaia\nConviv
 encia y diversidad\nLunes de diciembre\nLECTURA FÁCIL\n\nDirigido a: perso
 nas con dificultades lectoras por diversos motivos\nDías: lunes\nHorario: 
 10:30 – 11:30\nIdioma: Dos grupos. Euskara y castellano\nLugar: Aizpurunea
  kultur etxea (Urretxu)\n\n\nInscripciones:\nLugar: Urretxuko Udaleko Giza
 rte zerbitzuetan. Tel.: 943 03 80 83\nCuota: gratuito\n https://www.urretx
 u.eus/eu/component/rseventspro/ekitaldia/11342-cursillos-lectura-facil/?It
 emid=775
DTSTART:20181203T093000Z
DTEND:20181203T103000Z
LOCATION:Aizpurunea Kultur Etxea (Urretxu) (Jauregi Kalea\, 19\, 20700 Urre
 txu\, Gipuzkoa\, Spain)
SUMMARY:Cursillos: Lectura fácil
URL:https://www.urretxu.eus/eu/component/rseventspro/ekitaldia/11342-cursil
 los-lectura-facil/?Itemid=775
END:VEVENT
END:VCALENDAR
