BEGIN:VCALENDAR
VERSION:2.0
PRODID:-//https://www.urretxu.eus///NONSGML kigkonsult.se iCalcreator 2.10.15//
METHOD:PUBLISH
BEGIN:VEVENT
UID:20260419T181445UTC-2182NZ1Zic@https://www.urretxu.eus/
DTSTAMP:20260419T181445Z
DESCRIPTION:Antolatzailea: Urrelur Museoa\nLEHIAKETAK\n2\,3\,4 ostiratik ig
 andera\n“URRELUR” II. ARGAZKI LEHIAKETA\nEgun hauetan ateratako mineral et
 a fosil irudi ederrenak sarituko dira. 2017ko lehiaketako argazki irabazle
 en erakusketa.\n\nLekua: Ederrena pilotalekua (Urretxu)\nOinarrak: www.urr
 etxu.eus\n https://www.urretxu.eus/eu/component/rseventspro/ekitaldia/1115
 6-urrelur-ii-argazki-lehiaketa/?Itemid=775
DTSTART;VALUE=DATE:20181102
LOCATION:Urrelur. Mineral eta fosil museoa (Urretxu) (Jauregi Kalea\, 19\, 
 20700 Urretxu\, Gipuzkoa\, Spain)
SUMMARY:“URRELUR” II. ARGAZKI LEHIAKETA
URL:https://www.urretxu.eus/eu/component/rseventspro/ekitaldia/11156-urrelu
 r-ii-argazki-lehiaketa/?Itemid=775
END:VEVENT
END:VCALENDAR
