BEGIN:VCALENDAR
VERSION:2.0
PRODID:-//https://www.urretxu.eus///NONSGML kigkonsult.se iCalcreator 2.10.15//
METHOD:PUBLISH
BEGIN:VEVENT
UID:20260421T120714UTC-2491RNlpaL@https://www.urretxu.eus/
DTSTAMP:20260421T120714Z
DESCRIPTION:Antolatzailea: Harizpi Eskulan Elkartea\nLaguntzailea: Urretxuk
 o Udala\nIKASTAROAK: URRETXUKO HARIZPI ESKULAN TAILERRA\nALTZARIAK ZAHARBE
 RRITZEKO IKASTAROA (hasiera maila)\nIrailaren 12tik urriaren 31ra\n\nBegir
 alea: Ana Alvarez de Arcaya\nEgunak: asteazkenak\nOrdutegia: 16:30 – 19:00
 \nLekua: Aizpurunea kultur etxea (Urretxu)\n\n\nIzen-ematea:\nEgunak: uzta
 ilaren 9tik irailaren 10a arte\nLekua: Aizpurunea kultur etxea (Urretxu)\n
 Kuota: 35 euro (materiala aparte)\nLeku mugatua (gutxienez 8 - gehienez 15
 )\nIzen ematearen ordena jarraituko da\n https://www.urretxu.eus/eu/compon
 ent/rseventspro/ekitaldia/10534-izen-ematea-altzariak-zaharberritzeko-ikas
 taroa-hasiera-maila/?Itemid=775
DTSTART;VALUE=DATE:20180818
LOCATION:Aizpurunea Kultur Etxea (Urretxu) (Jauregi Kalea\, 19\, 20700 Urre
 txu\, Gipuzkoa\, Spain)
SUMMARY:Izen-ematea: Altzariak Zaharberritzeko Ikastaroa (hasiera maila)
URL:https://www.urretxu.eus/eu/component/rseventspro/ekitaldia/10534-izen-e
 matea-altzariak-zaharberritzeko-ikastaroa-hasiera-maila/?Itemid=775
END:VEVENT
END:VCALENDAR
