BEGIN:VCALENDAR
VERSION:2.0
PRODID:-//https://www.urretxu.eus///NONSGML kigkonsult.se iCalcreator 2.10.15//
METHOD:PUBLISH
BEGIN:VEVENT
UID:20260421T091756UTC-0262JHamoh@https://www.urretxu.eus/
DTSTAMP:20260421T091756Z
DESCRIPTION:12:00 kalejira / 17:30 Dantza ekitaldia Lizeoko jolastokian\nDA
 NTZA TALDEAK: Aurtzaka (Beasain)\, Korosti (Legazpi)\, Ereintza (Orereta)\
 , Andra Mari (Galdakao)\, Irrintzi eta Lurra dantza taldeak\nTOKIA Urretxu
 ko kaleak eta Lizeoko jolastokia (eguraldi txarrarekin\, Ederrena pilotale
 kuan)\nAntolatzailea: Lurra Dantza Taldea\n  https://www.urretxu.eus/es/pr
 omocion-sociocultural/cultura/agenda-cultura/evento/18977-43-dantzari-txik
 i-eguna/
DTSTART:20230618T100000Z
DTEND:20230618T173000Z
LOCATION:Urretxu eta Zumarragako kaleak (Labeaga Kalea\, 18\, 20700 Urretxu
 \, Gipuzkoa\, Spain)
SUMMARY:43. DANTZARI TXIKI EGUNA
URL:https://www.urretxu.eus/es/promocion-sociocultural/cultura/agenda-cultu
 ra/evento/18977-43-dantzari-txiki-eguna/
END:VEVENT
END:VCALENDAR
