BEGIN:VCALENDAR
VERSION:2.0
PRODID:-//https://www.urretxu.eus///NONSGML kigkonsult.se iCalcreator 2.10.15//
METHOD:PUBLISH
BEGIN:VEVENT
UID:20260422T105311UTC-8975vNtFLn@https://www.urretxu.eus/
DTSTAMP:20260422T105311Z
DESCRIPTION:Organiza: Urretxu-Zumarragako bertso eskola\n\n  https://www.ur
 retxu.eus/es/promocion-sociocultural/cultura/agenda-cultura/evento/18904-m
 artxoan-bertsoa-zikloaren-barruan-bertso-musikatuak/
DTSTART:20230401T170000Z
DTEND:20230401T180000Z
LOCATION:Gazteleku (Urretxu) (Areizaga Kalea 12\, 11\, 20700 Urretxu\, Guip
 úzcoa\, Spain)
SUMMARY:MARTXOAN BERTSOA zikloaren barruan\, BERTSO MUSIKATUAK
URL:https://www.urretxu.eus/es/promocion-sociocultural/cultura/agenda-cultu
 ra/evento/18904-martxoan-bertsoa-zikloaren-barruan-bertso-musikatuak/
END:VEVENT
END:VCALENDAR
