BEGIN:VCALENDAR
VERSION:2.0
PRODID:-//https://www.urretxu.eus///NONSGML kigkonsult.se iCalcreator 2.10.15//
METHOD:PUBLISH
BEGIN:VEVENT
UID:20260422T095904UTC-5333xrIFiV@https://www.urretxu.eus/
DTSTAMP:20260422T095904Z
DESCRIPTION:Oradores: representantes de la asociación “Morir dignamente” Or
 ganizador: Minbiziaren Aurka Gipuzkoan elkartea https://www.urretxu.eus/es
 /promocion-sociocultural/cultura/agenda-cultura/evento/17653-charla-eutana
 siaren-inguruan-hitz-egin-dezagun/
DTSTART:20220524T160000Z
DTEND:20220524T170000Z
LOCATION:Labeaga Aretoa (Urretxu) (Labeaga Kalea\, 20\, 20700 Urretxu\, Gip
 uzkoa\, Spain)
SUMMARY:CHARLA: “EUTANASIAREN INGURUAN HITZ EGIN DEZAGUN”
URL:https://www.urretxu.eus/es/promocion-sociocultural/cultura/agenda-cultu
 ra/evento/17653-charla-eutanasiaren-inguruan-hitz-egin-dezagun/
END:VEVENT
END:VCALENDAR
