BEGIN:VCALENDAR
VERSION:2.0
PRODID:-//https://www.urretxu.eus///NONSGML kigkonsult.se iCalcreator 2.10.15//
METHOD:PUBLISH
BEGIN:VEVENT
UID:20260420T193003UTC-7422mExUhz@https://www.urretxu.eus/
DTSTAMP:20260420T193003Z
DESCRIPTION:Hasta el 13 de julio (los miércoles)\nDÍA: 27\, miércoles\nHORA
 : 09:00 – 11:00 / 11:00 – 13:00 / 15:30 – 17:30 y 17:30 19:30\nLUGAR: Txir
 ibiri elkartearen lokala – Belaustegi plaza (Urretxu)\nORGANIZA: Txiribiri
  Euskal Zizelkari Taldea\n\n\nCuota: 40€\n\n\nInscripciones: 25 y 26 de ab
 ril entre 16:30 y 18:30\, o llamando al 606339834\n\n\n https://www.urretx
 u.eus/es/promocion-sociocultural/cultura/agenda-cultura/evento/17622-cursi
 llo-de-talla-de-madera-con-fran-arzuaga/
DTSTART:20220427T070000Z
DTEND:20220713T173000Z
LOCATION:Txiribiri elkartearen lokala (Belaustegi plaza\, Euskaltegiaren on
 doan. Urretxu) (Labeaga Kalea\, 40B\, 20700 Urretxu\, Gipuzkoa\, Spain)
SUMMARY:CURSILLO DE TALLA DE  MADERA con Fran Arzuaga
URL:https://www.urretxu.eus/es/promocion-sociocultural/cultura/agenda-cultu
 ra/evento/17622-cursillo-de-talla-de-madera-con-fran-arzuaga/
END:VEVENT
END:VCALENDAR
