BEGIN:VCALENDAR
VERSION:2.0
PRODID:-//https://www.urretxu.eus///NONSGML kigkonsult.se iCalcreator 2.10.15//
METHOD:PUBLISH
BEGIN:VEVENT
UID:20260424T025322UTC-0291cXp3XC@https://www.urretxu.eus/
DTSTAMP:20260424T025322Z
DESCRIPTION:\nUdal liburutegian hilero gai baten inguruko argitalpenak erak
 usten dira liburutegiko 'interesgunean' eta ekintza ezberdinak egingo dira
 .\n\nAntolatzailea: Urretxuko Udala\n\nHil honetako gaia: Dantza\n'JOSE MA
 RI ORBEGOZO: BIZITZA BAT DANTZAN'\nJose Mari Orbegozo ospe handiko dantzar
 iak bere bizitza eta ibilbide artistikoaren errepasoa egingo du\, bertarat
 zen den publikoarekin parte-katuz bizi izandako esperientziak eta dantzak 
 berari eman diona.\n\nNorentzat: edonorentzat eta doan\nTopalekua: Urretxu
 ko liburutegia https://www.urretxu.eus/es/component/rseventspro/evento/321
 6-liburutegian-interesgunea-jose-mari-orbegozo-bizitza-bat-dantzan/?Itemid
 =855
DTSTART:20170627T170000Z
DTEND:20170627T180000Z
LOCATION:Urretxuko Liburutegia (Jauregi Kalea\, 21\, 20700 Urretxu\, Gipuzk
 oa\, Spain)
SUMMARY:Liburutegian Interesgunea - Jose Mari Orbegozo: Bizitza bat dantzan
URL:https://www.urretxu.eus/es/component/rseventspro/evento/3216-liburutegi
 an-interesgunea-jose-mari-orbegozo-bizitza-bat-dantzan/?Itemid=855
END:VEVENT
END:VCALENDAR
