BEGIN:VCALENDAR
VERSION:2.0
PRODID:-//https://www.urretxu.eus///NONSGML kigkonsult.se iCalcreator 2.10.15//
METHOD:PUBLISH
BEGIN:VEVENT
UID:20260423T235812UTC-0269U662vp@https://www.urretxu.eus/
DTSTAMP:20260423T235812Z
DESCRIPTION: https://www.urretxu.eus/es/component/rseventspro/evento/20215-
 campeonato-de-preparacion-a-mano-para-el-campeonato-del-mundo-de-la-selecc
 ion-euskal-pilota/?Itemid=855
DTSTART:20260510T090000Z
DTEND:20260510T110000Z
LOCATION:Ederrena Pilotalekua (Urretxu) (San Martin Etxetaldea\, 4\, 20700 
 Urretxu\, Gipuzkoa\, Spain)
SUMMARY:CAMPEONATO DE PREPARACIÓN\, A MANO\, PARA EL CAMPEONATO DEL MUNDO D
 E LA SELECCIÓN EUSKAL PILOTA.
URL:https://www.urretxu.eus/es/component/rseventspro/evento/20215-campeonat
 o-de-preparacion-a-mano-para-el-campeonato-del-mundo-de-la-seleccion-euska
 l-pilota/?Itemid=855
END:VEVENT
END:VCALENDAR
