BEGIN:VCALENDAR
VERSION:2.0
PRODID:-//https://www.urretxu.eus///NONSGML kigkonsult.se iCalcreator 2.10.15//
METHOD:PUBLISH
BEGIN:VEVENT
UID:20260424T024455UTC-1493O4El4L@https://www.urretxu.eus/
DTSTAMP:20260424T024455Z
DESCRIPTION:Liburua: “ZOO”\, Goiatz Labandibar\nANTOLATZAILEA: Urretxu eta 
 Zumarragako udalak eta Udal Euskaltegia https://www.urretxu.eus/es/compone
 nt/rseventspro/evento/20208-irakurle-taldea-gorka-azkaraterekin/?Itemid=85
 5
DTSTART:20260421T170000Z
DTEND:20260421T180000Z
LOCATION:Zelai Arizti kultur etxea (Zumarraga) (Legazpi Kalea\, 7\, 20700 Z
 umarraga\, Gipuzkoa\, Spain)
SUMMARY:IRAKURLE TALDEA\, Gorka Azkaraterekin
URL:https://www.urretxu.eus/es/component/rseventspro/evento/20208-irakurle-
 taldea-gorka-azkaraterekin/?Itemid=855
END:VEVENT
END:VCALENDAR
