BEGIN:VCALENDAR
VERSION:2.0
PRODID:-//https://www.urretxu.eus///NONSGML kigkonsult.se iCalcreator 2.10.15//
METHOD:PUBLISH
BEGIN:VEVENT
UID:20260424T000601UTC-7154slVhPF@https://www.urretxu.eus/
DTSTAMP:20260424T000601Z
DESCRIPTION:Urretxu eta Zumarrragako kaleak\nAntolatzailea: Secundino Esnao
 la Musika Eskola https://www.urretxu.eus/es/component/rseventspro/evento/1
 9793-carnavales-desfile-estudiantes-escuela-musica-secundino-esnaola/?Item
 id=855
DTSTART:20260214T160000Z
DTEND:20260214T170000Z
LOCATION:Urretxuko kaleetan zehar (Iparragirre Kalea\, 20700 Urretxu\, Gipu
 zkoa\, Spain)
SUMMARY:CARNAVALES - DESFILE ESTUDIANTES ESCUELA MÚSICA SECUNDINO ESNAOLA
URL:https://www.urretxu.eus/es/component/rseventspro/evento/19793-carnavale
 s-desfile-estudiantes-escuela-musica-secundino-esnaola/?Itemid=855
END:VEVENT
END:VCALENDAR
