BEGIN:VCALENDAR
VERSION:2.0
PRODID:-//https://www.urretxu.eus///NONSGML kigkonsult.se iCalcreator 2.10.15//
METHOD:PUBLISH
BEGIN:VEVENT
UID:20260424T000033UTC-36730AUSKv@https://www.urretxu.eus/
DTSTAMP:20260424T000033Z
DESCRIPTION:Organizador: Ayuntamientos Urretxu y Zumarraga https://www.urre
 txu.eus/es/component/rseventspro/evento/19789-carnavales-fiesta-dj/?Itemid
 =855
DTSTART:20260214T170000Z
DTEND:20260214T183000Z
LOCATION:Gernikako Arbola plaza (Urretxu) (Gernikako Arbola Plaza\, 20700 U
 rretxu\, Gipuzkoa\, Spain)
SUMMARY:CARNAVALES - FIESTA DJ
URL:https://www.urretxu.eus/es/component/rseventspro/evento/19789-carnavale
 s-fiesta-dj/?Itemid=855
END:VEVENT
END:VCALENDAR
