BEGIN:VCALENDAR
VERSION:2.0
PRODID:-//https://www.urretxu.eus///NONSGML kigkonsult.se iCalcreator 2.10.15//
METHOD:PUBLISH
BEGIN:VEVENT
UID:20260424T000255UTC-9871ERkn56@https://www.urretxu.eus/
DTSTAMP:20260424T000255Z
DESCRIPTION:Organizador: Gainzuri\, Ikastola y La Salle https://www.urretxu
 .eus/es/component/rseventspro/evento/19788-carnavales-fiesta-de-los-colegi
 os/?Itemid=855
DTSTART:20260213T133000Z
DTEND:20260213T153000Z
LOCATION:Urretxuko kaleetan zehar (Iparragirre Kalea\, 20700 Urretxu\, Gipu
 zkoa\, Spain)
SUMMARY:CARNAVALES - FIESTA DE LOS COLEGIOS
URL:https://www.urretxu.eus/es/component/rseventspro/evento/19788-carnavale
 s-fiesta-de-los-colegios/?Itemid=855
END:VEVENT
END:VCALENDAR
