BEGIN:VCALENDAR
VERSION:2.0
PRODID:-//https://www.urretxu.eus///NONSGML kigkonsult.se iCalcreator 2.10.15//
METHOD:PUBLISH
BEGIN:VEVENT
UID:20260424T025825UTC-16027APVfF@https://www.urretxu.eus/
DTSTAMP:20260424T025825Z
DESCRIPTION:Libro: 'MUNDU ZITALAREN KONTRA'\, Lizar Begoña\nOrganizador: Ur
 retxu eta Zumarragako udalak eta Udal Euskaltegia https://www.urretxu.eus/
 es/component/rseventspro/evento/19782-grupo-de-lectura-mundu-zitalaren-kon
 tra/?Itemid=855
DTSTART:20250513T170000Z
DTEND:20250513T180000Z
LOCATION:Aizpurunea Kultur Etxea (Urretxu) (Jauregi Kalea\, 19\, 20700 Urre
 txu\, Gipuzkoa\, Spain)
SUMMARY:GRUPO DE LECTURA: 'MUNDU ZITALAREN KONTRA'
URL:https://www.urretxu.eus/es/component/rseventspro/evento/19782-grupo-de-
 lectura-mundu-zitalaren-kontra/?Itemid=855
END:VEVENT
END:VCALENDAR
