BEGIN:VCALENDAR
VERSION:2.0
PRODID:-//https://www.urretxu.eus///NONSGML kigkonsult.se iCalcreator 2.10.15//
METHOD:PUBLISH
BEGIN:VEVENT
UID:20260424T025433UTC-6797VTcz31@https://www.urretxu.eus/
DTSTAMP:20260424T025433Z
DESCRIPTION:    • Cuota: 10\,30€     • Al apuntarse a 3 o más sesiones de e
 ste programa\, descuento del 25%.    • Inscripción abierta hasta el 10 de 
 mayo en la casa de cultura.\nOrganiza: Urretxuko Udala https://www.urretxu
 .eus/es/component/rseventspro/evento/19771-maraton-de-figura-humana-con-jo
 su-maroto/?Itemid=855
DTSTART:20250510T080000Z
DTEND:20250510T160000Z
LOCATION:Labeaga Aretoa (Urretxu) (Labeaga Kalea\, 20\, 20700 Urretxu\, Gip
 uzkoa\, Spain)
SUMMARY:MARATÓN DE FIGURA HUMANA con Josu Maroto
URL:https://www.urretxu.eus/es/component/rseventspro/evento/19771-maraton-d
 e-figura-humana-con-josu-maroto/?Itemid=855
END:VEVENT
END:VCALENDAR
