BEGIN:VCALENDAR
VERSION:2.0
PRODID:-//https://www.urretxu.eus///NONSGML kigkonsult.se iCalcreator 2.10.15//
METHOD:PUBLISH
BEGIN:VEVENT
UID:20260424T012735UTC-8879pjEko3@https://www.urretxu.eus/
DTSTAMP:20260424T012735Z
DESCRIPTION:ORGANIZA: Urretxuko Udala\n\n  https://www.urretxu.eus/es/compo
 nent/rseventspro/evento/19701-entrega-premios-concurso-fotografico-urrelur
 /?Itemid=855
DTSTART:20251121T180000Z
DTEND:20251121T190000Z
LOCATION:Udaletxeko Portaloia (Urretxu) (Casa de Ipeñarreta\, Iparragirre K
 alea\, 20\, 20700 Urretxu\, Guipúzcoa\, Zumarraga\, Spain)
SUMMARY:ENTREGA PREMIOS CONCURSO FOTOGRÁFICO URRELUR
URL:https://www.urretxu.eus/es/component/rseventspro/evento/19701-entrega-p
 remios-concurso-fotografico-urrelur/?Itemid=855
END:VEVENT
END:VCALENDAR
