BEGIN:VCALENDAR
VERSION:2.0
PRODID:-//https://www.urretxu.eus///NONSGML kigkonsult.se iCalcreator 2.10.15//
METHOD:PUBLISH
BEGIN:VEVENT
UID:20260424T000441UTC-8057PwbZnz@https://www.urretxu.eus/
DTSTAMP:20260424T000441Z
DESCRIPTION:Y el 19 de junio\, 17:00-20:00\, GIMNASIA RÍTMICA: PUERTAS ABIE
 RTAS. Acércate y conoce en detalle la actividad.\nOrganiza: Gimnasia errit
 mikoa https://www.urretxu.eus/es/component/rseventspro/evento/19539-gimnas
 ia-ritmica-festival-de-fin-de-curso/?Itemid=855
DTSTART:20250617T163000Z
DTEND:20250617T180000Z
LOCATION:Aldiri kiroldegia (Urretxu) (Nekolalde Kalea\, 0\, 20700 Urretxu\,
  Gipuzkoa\, Spain)
SUMMARY:GIMNASIA RÍTMICA: FESTIVAL DE FIN DE CURSO
URL:https://www.urretxu.eus/es/component/rseventspro/evento/19539-gimnasia-
 ritmica-festival-de-fin-de-curso/?Itemid=855
END:VEVENT
END:VCALENDAR
