BEGIN:VCALENDAR
VERSION:2.0
PRODID:-//https://www.urretxu.eus///NONSGML kigkonsult.se iCalcreator 2.10.15//
METHOD:PUBLISH
BEGIN:VEVENT
UID:20260424T012928UTC-2577VMvp8w@https://www.urretxu.eus/
DTSTAMP:20260424T012928Z
DESCRIPTION:Organiza: Secundino Esnaola Musika Eskola https://www.urretxu.e
 us/es/component/rseventspro/evento/19535-concierto-de-fin-de-curso-de-secu
 ndino-esnaola-musika-eskola/?Itemid=855
DTSTART:20250616T163000Z
DTEND:20250616T180000Z
LOCATION:Areizaga - Kalebarren plaza (Urretxu) (Areizaga-Kalebarren)
SUMMARY:CONCIERTO DE FIN DE CURSO DE SECUNDINO ESNAOLA MUSIKA ESKOLA
URL:https://www.urretxu.eus/es/component/rseventspro/evento/19535-concierto
 -de-fin-de-curso-de-secundino-esnaola-musika-eskola/?Itemid=855
END:VEVENT
END:VCALENDAR
