BEGIN:VCALENDAR
VERSION:2.0
PRODID:-//https://www.urretxu.eus///NONSGML kigkonsult.se iCalcreator 2.10.15//
METHOD:PUBLISH
BEGIN:VEVENT
UID:20260423T235947UTC-89037iaxRf@https://www.urretxu.eus/
DTSTAMP:20260423T235947Z
DESCRIPTION:11:00-20:00 todos los días\nHasta el 7 de septiembre\n \nOrgani
 za: Urretxuko Udala https://www.urretxu.eus/es/component/rseventspro/event
 o/19530-apertura-de-piscinas/?Itemid=855
DTSTART:20250613T090000Z
DTEND:20250907T180000Z
LOCATION:Pagoeta Udal Igerilekua (Urretxu) (Pagoeta Auz.\, 6\, 20700 Urretx
 u\, Gipuzkoa\, Spain)
SUMMARY:APERTURA DE PISCINAS
URL:https://www.urretxu.eus/es/component/rseventspro/evento/19530-apertura-
 de-piscinas/?Itemid=855
END:VEVENT
END:VCALENDAR
