BEGIN:VCALENDAR
VERSION:2.0
PRODID:-//https://www.urretxu.eus///NONSGML kigkonsult.se iCalcreator 2.10.15//
METHOD:PUBLISH
BEGIN:VEVENT
UID:20260424T012620UTC-9287pAkJUB@https://www.urretxu.eus/
DTSTAMP:20260424T012620Z
DESCRIPTION: \nORGANIZA: Urretxuko Udala\n\n  https://www.urretxu.eus/es/co
 mponent/rseventspro/evento/19473-biblioteca-humana---diversidad-funcional/
 ?Itemid=855
DTSTART:20251120T160000Z
DTEND:20251120T180000Z
LOCATION:Urretxuko Liburutegia (Jauregi Kalea\, 21\, 20700 Urretxu\, Gipuzk
 oa\, Spain)
SUMMARY:BIBLIOTECA HUMANA – DIVERSIDAD FUNCIONAL
URL:https://www.urretxu.eus/es/component/rseventspro/evento/19473-bibliotec
 a-humana---diversidad-funcional/?Itemid=855
END:VEVENT
END:VCALENDAR
