BEGIN:VCALENDAR
VERSION:2.0
PRODID:-//https://www.urretxu.eus///NONSGML kigkonsult.se iCalcreator 2.10.15//
METHOD:PUBLISH
BEGIN:VEVENT
UID:20260424T000441UTC-97808xilSo@https://www.urretxu.eus/
DTSTAMP:20260424T000441Z
DESCRIPTION:Urretxu eta Zumarragako kaleak\nAntolatzailea: Urretxu eta Zuma
 rragako udalak https://www.urretxu.eus/es/component/rseventspro/evento/193
 92-carnavales-pasacalles-charanga-jundajo/?Itemid=855
DTSTART:20260214T113000Z
DTEND:20260214T140000Z
LOCATION:Urretxu eta Zumarragako kaleak (Labeaga Kalea\, 18\, 20700 Urretxu
 \, Gipuzkoa\, Spain)
SUMMARY:CARNAVALES: PASACALLES CHARANGA “JUNDAJO”
URL:https://www.urretxu.eus/es/component/rseventspro/evento/19392-carnavale
 s-pasacalles-charanga-jundajo/?Itemid=855
END:VEVENT
END:VCALENDAR
