BEGIN:VCALENDAR
VERSION:2.0
PRODID:-//https://www.urretxu.eus///NONSGML kigkonsult.se iCalcreator 2.10.15//
METHOD:PUBLISH
BEGIN:VEVENT
UID:20260424T054522UTC-7752tJ1pMN@https://www.urretxu.eus/
DTSTAMP:20260424T054522Z
DESCRIPTION:Libro: '2023-02-28 19:00”\, Xabier Montoia Organiza: Urretxu et
 a Zumarragako udalak eta Udal Euskaltegia https://www.urretxu.eus/es/compo
 nent/rseventspro/evento/18169-grupo-de-lectura-taxiak-ez-dira-inoiz-geldit
 zen/?Itemid=855
DTSTART:20230228T180000Z
DTEND:20230228T190000Z
LOCATION:Aizpurunea Kultur Etxea (Urretxu) (Jauregi Kalea\, 19\, 20700 Urre
 txu\, Gipuzkoa\, Spain)
SUMMARY:GRUPO DE LECTURA: 'TAXIAK EZ DIRA INOIZ GELDITZEN”
URL:https://www.urretxu.eus/es/component/rseventspro/evento/18169-grupo-de-
 lectura-taxiak-ez-dira-inoiz-gelditzen/?Itemid=855
END:VEVENT
END:VCALENDAR
