BEGIN:VCALENDAR
VERSION:2.0
PRODID:-//https://www.urretxu.eus///NONSGML kigkonsult.se iCalcreator 2.10.15//
METHOD:PUBLISH
BEGIN:VEVENT
UID:20260423T235814UTC-3485b1zsaO@https://www.urretxu.eus/
DTSTAMP:20260423T235814Z
DESCRIPTION:Organiza: asociación Aterpe https://www.urretxu.eus/es/componen
 t/rseventspro/evento/18155-dia-del-octogenario/?Itemid=855
DTSTART:20241012T120000Z
DTEND:20241012T140000Z
LOCATION:Aterpe Jubilatuen elkartea (Urretxu) (Diseminados Barreiatua\, 40\
 , 20700 Urretxu\, Gipuzkoa\, Spain)
SUMMARY: DIA DEL OCTOGENARIO
URL:https://www.urretxu.eus/es/component/rseventspro/evento/18155-dia-del-o
 ctogenario/?Itemid=855
END:VEVENT
END:VCALENDAR
