BEGIN:VCALENDAR
VERSION:2.0
PRODID:-//https://www.urretxu.eus///NONSGML kigkonsult.se iCalcreator 2.10.15//
METHOD:PUBLISH
BEGIN:VEVENT
UID:20260424T041303UTC-9738c93iFD@https://www.urretxu.eus/
DTSTAMP:20260424T041303Z
DESCRIPTION:Liburua: 'A mí no me iba a pasar'\, de Laura Freixas\nAntolatza
 ilea: Urretxuko Udala https://www.urretxu.eus/es/component/rseventspro/eve
 nto/17654-munduko-emakumeen-literaturaren-kluba/?Itemid=855
DTSTART:20230126T173000Z
DTEND:20230126T183000Z
LOCATION:Aizpurunea Kultur Etxea (Urretxu) (Jauregi Kalea\, 19\, 20700 Urre
 txu\, Gipuzkoa\, Spain)
SUMMARY:MUNDUKO EMAKUMEEN LITERATURAREN KLUBA
URL:https://www.urretxu.eus/es/component/rseventspro/evento/17654-munduko-e
 makumeen-literaturaren-kluba/?Itemid=855
END:VEVENT
END:VCALENDAR
