BEGIN:VCALENDAR
VERSION:2.0
PRODID:-//https://www.urretxu.eus///NONSGML kigkonsult.se iCalcreator 2.10.15//
METHOD:PUBLISH
BEGIN:VEVENT
UID:20260424T024552UTC-667405vlt9@https://www.urretxu.eus/
DTSTAMP:20260424T024552Z
DESCRIPTION:Imparte: Jose Manuel Mendez “Mendo” Cuota: 10€ Al apuntarse a 3
  o más sesiones de este programa\, descuento del 25% Información e inscrip
 ciones en la casa de cultura 943038088 Organizador: Urretxuko Udala https:
 //www.urretxu.eus/es/component/rseventspro/evento/17641-master-class-de-ac
 uarela/?Itemid=855
DTSTART:20231120T173000Z
DTEND:20231120T200000Z
LOCATION:Aizpurunea Kultur Etxea (Urretxu) (Jauregi Kalea\, 19\, 20700 Urre
 txu\, Gipuzkoa\, Spain)
SUMMARY:MASTER CLASS  DE ACUARELA
URL:https://www.urretxu.eus/es/component/rseventspro/evento/17641-master-cl
 ass-de-acuarela/?Itemid=855
END:VEVENT
END:VCALENDAR
