BEGIN:VCALENDAR
VERSION:2.0
PRODID:-//https://www.urretxu.eus///NONSGML kigkonsult.se iCalcreator 2.10.15//
METHOD:PUBLISH
BEGIN:VEVENT
UID:20260424T012609UTC-9222G97Rrc@https://www.urretxu.eus/
DTSTAMP:20260424T012609Z
DESCRIPTION:Reparto de bocadillos y naranjas a alumnos por la mañana\, de U
 rretxu y Zumarraga\nOrganizan:  Ayuntamientos de Zumarraga y Urretxu\nLuga
 r:  escuelas del pueblo\n  https://www.urretxu.eus/es/component/rseventspr
 o/evento/17536-carnavales-2024-jueves-gordo/?Itemid=855
DTSTART;VALUE=DATE:20240208
LOCATION:Urretxu eta Zumarragako kaleak (Labeaga Kalea\, 18\, 20700 Urretxu
 \, Gipuzkoa\, Spain)
SUMMARY:CARNAVALES 2024: JUEVES GORDO
URL:https://www.urretxu.eus/es/component/rseventspro/evento/17536-carnavale
 s-2024-jueves-gordo/?Itemid=855
END:VEVENT
END:VCALENDAR
