BEGIN:VCALENDAR
VERSION:2.0
PRODID:-//https://www.urretxu.eus///NONSGML kigkonsult.se iCalcreator 2.10.15//
METHOD:PUBLISH
BEGIN:VEVENT
UID:20260424T013124UTC-9272xwMuRE@https://www.urretxu.eus/
DTSTAMP:20260424T013124Z
DESCRIPTION:EGUNA: 18\, larunbata\nORDUA: 11:30ean hasi eta egun guztian ze
 har\nTOKIA: Urretxuko kaleak eta Gernikako Arbola plaza\nANTOLATZAILEA: Ip
 arragirre Balerdi Musika Tailerra https://www.urretxu.eus/es/component/rse
 ventspro/evento/17534-inauteriak-2023-iparragirre-balerdi-musika-bandaren-
 inauteriatako-kalejira/?Itemid=855
DTSTART:20240210T103000Z
DTEND:20240210T190000Z
LOCATION:Urretxu (Kalea Iparragirre\, 20W\, 20700 Urretxu\, Gipuzkoa\, Spai
 n)
SUMMARY:INAUTERIAK 2023: IPARRAGIRRE BALERDI MUSIKA BANDAREN INAUTERIATAKO 
 KALEJIRA
URL:https://www.urretxu.eus/es/component/rseventspro/evento/17534-inauteria
 k-2023-iparragirre-balerdi-musika-bandaren-inauteriatako-kalejira/?Itemid=
 855
END:VEVENT
END:VCALENDAR
