BEGIN:VCALENDAR
VERSION:2.0
PRODID:-//https://www.urretxu.eus///NONSGML kigkonsult.se iCalcreator 2.10.15//
METHOD:PUBLISH
BEGIN:VEVENT
UID:20260424T040959UTC-9678vMDpKw@https://www.urretxu.eus/
DTSTAMP:20260424T040959Z
DESCRIPTION:Kuota: 10€  Programa honetako 3 saio edo gehiagotan apuntatuz g
 ero\, %25eko deskontua)\nIzen-ematea: Ekainaren 2ra arte kultur etxean\n 
 \nAntolatzailea: Urretxuko Udala https://www.urretxu.eus/es/component/rsev
 entspro/evento/17189-master-class-mendo-jose-manuel-mendez-aire-librean/?I
 temid=855
DTSTART:20230603T080000Z
DTEND:20230603T120000Z
LOCATION:Aizpurunea Kultur Etxea (Urretxu) (Jauregi Kalea\, 19\, 20700 Urre
 txu\, Gipuzkoa\, Spain)
SUMMARY:MASTER CLASS “Mendo” José Manuel Méndez - AIRE LIBREAN
URL:https://www.urretxu.eus/es/component/rseventspro/evento/17189-master-cl
 ass-mendo-jose-manuel-mendez-aire-librean/?Itemid=855
END:VEVENT
END:VCALENDAR
