BEGIN:VCALENDAR
VERSION:2.0
PRODID:-//https://www.urretxu.eus///NONSGML kigkonsult.se iCalcreator 2.10.15//
METHOD:PUBLISH
BEGIN:VEVENT
UID:20260424T024556UTC-5990D7k0rM@https://www.urretxu.eus/
DTSTAMP:20260424T024556Z
DESCRIPTION:Ventanas\, balcones y exteriores de caseríos de Urretxu y Zumar
 raga.La entrega de premios será el 9 de julio. https://www.urretxu.eus/es/
 component/rseventspro/evento/17170-premios-florales/?Itemid=855
DTSTART:20210709T100000Z
DTEND:20210709T110000Z
LOCATION:Zelai Arizti kultur etxea (Zumarraga) (Legazpi Kalea\, 7\, 20700 Z
 umarraga\, Gipuzkoa\, Spain)
SUMMARY:PREMIOS FLORALES
URL:https://www.urretxu.eus/es/component/rseventspro/evento/17170-premios-f
 lorales/?Itemid=855
END:VEVENT
END:VCALENDAR
