BEGIN:VCALENDAR
VERSION:2.0
PRODID:-//https://www.urretxu.eus///NONSGML kigkonsult.se iCalcreator 2.10.15//
METHOD:PUBLISH
BEGIN:VEVENT
UID:20260424T025211UTC-5101JeAV0f@https://www.urretxu.eus/
DTSTAMP:20260424T025211Z
DESCRIPTION:943038827Organizador: Urretxuko eta Zumarragako Udala\n1 y 6 de
  Enero cerrado https://www.urretxu.eus/es/component/rseventspro/evento/169
 47-gazte-bidean-servicio-municipal-para-adolescentes/?Itemid=855
DTSTART:20201225T153000Z
DTEND:20201225T193000Z
LOCATION:Iparragirre plaza (Urretxu) (Iparragirre Kalea\, 22\, 20700 Urretx
 u\, Gipuzkoa\, Spain)
SUMMARY:Gazte bidean servicio municipal para adolescentes
URL:https://www.urretxu.eus/es/component/rseventspro/evento/16947-gazte-bid
 ean-servicio-municipal-para-adolescentes/?Itemid=855
END:VEVENT
END:VCALENDAR
