BEGIN:VCALENDAR
VERSION:2.0
PRODID:-//https://www.urretxu.eus///NONSGML kigkonsult.se iCalcreator 2.10.15//
METHOD:PUBLISH
BEGIN:VEVENT
UID:20260424T024557UTC-0537wb1G6b@https://www.urretxu.eus/
DTSTAMP:20260424T024557Z
DESCRIPTION:“FOR SAMA”\, Waad al-Kateab\, Edward Watts (Siria\, Reino Unido
 ) Organizador: Butak 21 Zine Kluba https://www.urretxu.eus/es/component/rs
 eventspro/evento/16533-proyeccion-de-cine/?Itemid=855
DTSTART:20210129T180000Z
DTEND:20210129T200000Z
LOCATION:Zelai Arizti aretoa (Zumarraga) (Legazpi Kalea\, 7\, 20700 Zumarra
 ga\, Gipuzkoa\, Spain)
SUMMARY:Proyección de cine
URL:https://www.urretxu.eus/es/component/rseventspro/evento/16533-proyeccio
 n-de-cine/?Itemid=855
END:VEVENT
END:VCALENDAR
