BEGIN:VCALENDAR
VERSION:2.0
PRODID:-//https://www.urretxu.eus///NONSGML kigkonsult.se iCalcreator 2.10.15//
METHOD:PUBLISH
BEGIN:VEVENT
UID:20260424T012625UTC-85411r5GkN@https://www.urretxu.eus/
DTSTAMP:20260424T012625Z
DESCRIPTION:17:30 – 20:30 lunes a domingo\n1 de enero cerrado https://www.u
 rretxu.eus/es/component/rseventspro/evento/16523-exposicion-taller-de-arte
 -de-urretxu/?Itemid=855
DTSTART:20201211T230000Z
DTEND:20210105T193000Z
LOCATION:Juan de Lizarazu Erakusketa Aretoa (Urretxu) (Labeaga Kalea\, 27\,
  20700 Urretxu\, Gipuzkoa\, Spain)
SUMMARY:Exposición taller de arte de Urretxu
URL:https://www.urretxu.eus/es/component/rseventspro/evento/16523-exposicio
 n-taller-de-arte-de-urretxu/?Itemid=855
END:VEVENT
END:VCALENDAR
