BEGIN:VCALENDAR
VERSION:2.0
PRODID:-//https://www.urretxu.eus///NONSGML kigkonsult.se iCalcreator 2.10.15//
METHOD:PUBLISH
BEGIN:VEVENT
UID:20260424T040426UTC-0587VezaDJ@https://www.urretxu.eus/
DTSTAMP:20260424T040426Z
DESCRIPTION:Jose Mari Iparragirreren bizitza eta biografian bidaia bat eska
 intzen digun filma.\nFilm dokumental baten bitartez Jose Mari Iparragirrer
 en bizitzan murgilduko gara\, bere garaiko gertakizunak\, bizipen pertsona
 lak\, eta ezagutzen ez genituen hainbat alderdi ezagutuko ditugu.   https:
 //www.urretxu.eus/es/component/rseventspro/evento/16069-film-dokumentala/?
 Itemid=855
DTSTART;VALUE=DATE:20201211
LOCATION:Urretxu (Kalea Iparragirre\, 20W\, 20700 Urretxu\, Gipuzkoa\, Spai
 n)
SUMMARY:Film dokumentala
URL:https://www.urretxu.eus/es/component/rseventspro/evento/16069-film-doku
 mentala/?Itemid=855
END:VEVENT
END:VCALENDAR
