BEGIN:VCALENDAR
VERSION:2.0
PRODID:-//https://www.urretxu.eus///NONSGML kigkonsult.se iCalcreator 2.10.15//
METHOD:PUBLISH
BEGIN:VEVENT
UID:20260423T085638UTC-3962E5L751@https://www.urretxu.eus/
DTSTAMP:20260423T085638Z
DESCRIPTION:EGUNA: Hileko asteazken\, ostegun\, ostiral\, larunbat eta igan
 de guztietan\nORDUA:\n\n16:30 - 20:00 asteazkena eta osteguna\n16:30 - 20:
 30 ostirala\, larunbata eta igandea\n\nGAZTE BIDEAN – NERABEENTZAKO UDAL Z
 ERBITZUA\nTOKIA: Gazte Bidean – Iparragirre plaza (Urretxu)\nANTOLATZAILEA
 : Urretxu eta Zumarragako udalak\n\n  https://www.urretxu.eus/es/component
 /rseventspro/evento/15161-gazte-bidean---nerabeentzako-udal-zerbitzua/?Ite
 mid=855
DTSTART;VALUE=DATE:20190901
LOCATION:Gazte Bidean (Urretxu) (Jauregi Kalea\, 10\, 20700 Urretxu\, Gipuz
 koa\, Spain)
SUMMARY:GAZTE BIDEAN – NERABEENTZAKO UDAL ZERBITZUA
URL:https://www.urretxu.eus/es/component/rseventspro/evento/15161-gazte-bid
 ean---nerabeentzako-udal-zerbitzua/?Itemid=855
END:VEVENT
END:VCALENDAR
