BEGIN:VCALENDAR
VERSION:2.0
PRODID:-//https://www.urretxu.eus///NONSGML kigkonsult.se iCalcreator 2.10.15//
METHOD:PUBLISH
BEGIN:VEVENT
UID:20260424T012324UTC-9977Ff94cz@https://www.urretxu.eus/
DTSTAMP:20260424T012324Z
DESCRIPTION:DÍA: 7\, 8 y 9 viernes\, sábado y domingo\nHORA: viernes por la
  tarde\, y sábado y domingo todo el día.\nGAINZURIKO HORMA IRUDIAREN MARGO
 TZEA\nLUGAR: Gainzuri ikastetxeko saskibaloi kantxa (Urretxu)\nORGANIZA: a
 yuntamiento de Urretxu\n\n  https://www.urretxu.eus/es/component/rseventsp
 ro/evento/14567-gainzuriko-horma-irudiaren-margotzea/?Itemid=855
DTSTART;VALUE=DATE:20190607
LOCATION:Gainzuri ikastetxea (Urretxu) (Labeaga Kalea\, 18\, 20700 Urretxu\
 , Gipuzkoa\, Spain)
SUMMARY:GAINZURIKO HORMA IRUDIAREN MARGOTZEA
URL:https://www.urretxu.eus/es/component/rseventspro/evento/14567-gainzurik
 o-horma-irudiaren-margotzea/?Itemid=855
END:VEVENT
END:VCALENDAR
